BEGIN:VCALENDAR
VERSION:2.0
PRODID:-//BCAS Online Learning - ECPv6.15.20//NONSGML v1.0//EN
CALSCALE:GREGORIAN
METHOD:PUBLISH
X-WR-CALNAME:BCAS Online Learning
X-ORIGINAL-URL:https://elearning.bcas.org.uk
X-WR-CALDESC:Events for BCAS Online Learning
REFRESH-INTERVAL;VALUE=DURATION:PT1H
X-Robots-Tag:noindex
X-PUBLISHED-TTL:PT1H
BEGIN:VTIMEZONE
TZID:Europe/London
BEGIN:DAYLIGHT
TZOFFSETFROM:+0000
TZOFFSETTO:+0100
TZNAME:BST
DTSTART:20200329T010000
END:DAYLIGHT
BEGIN:STANDARD
TZOFFSETFROM:+0100
TZOFFSETTO:+0000
TZNAME:GMT
DTSTART:20201025T010000
END:STANDARD
BEGIN:DAYLIGHT
TZOFFSETFROM:+0000
TZOFFSETTO:+0100
TZNAME:BST
DTSTART:20210328T010000
END:DAYLIGHT
BEGIN:STANDARD
TZOFFSETFROM:+0100
TZOFFSETTO:+0000
TZNAME:GMT
DTSTART:20211031T010000
END:STANDARD
BEGIN:DAYLIGHT
TZOFFSETFROM:+0000
TZOFFSETTO:+0100
TZNAME:BST
DTSTART:20220327T010000
END:DAYLIGHT
BEGIN:STANDARD
TZOFFSETFROM:+0100
TZOFFSETTO:+0000
TZNAME:GMT
DTSTART:20221030T010000
END:STANDARD
BEGIN:DAYLIGHT
TZOFFSETFROM:+0000
TZOFFSETTO:+0100
TZNAME:BST
DTSTART:20230326T010000
END:DAYLIGHT
BEGIN:STANDARD
TZOFFSETFROM:+0100
TZOFFSETTO:+0000
TZNAME:GMT
DTSTART:20231029T010000
END:STANDARD
BEGIN:DAYLIGHT
TZOFFSETFROM:+0000
TZOFFSETTO:+0100
TZNAME:BST
DTSTART:20240331T010000
END:DAYLIGHT
BEGIN:STANDARD
TZOFFSETFROM:+0100
TZOFFSETTO:+0000
TZNAME:GMT
DTSTART:20241027T010000
END:STANDARD
BEGIN:DAYLIGHT
TZOFFSETFROM:+0000
TZOFFSETTO:+0100
TZNAME:BST
DTSTART:20250330T010000
END:DAYLIGHT
BEGIN:STANDARD
TZOFFSETFROM:+0100
TZOFFSETTO:+0000
TZNAME:GMT
DTSTART:20251026T010000
END:STANDARD
END:VTIMEZONE
BEGIN:VEVENT
DTSTART;TZID=Europe/London:20240625T093000
DTEND;TZID=Europe/London:20240625T123000
DTSTAMP:20260424T045253
CREATED:20240327T143407Z
LAST-MODIFIED:20240327T143407Z
UID:10000333-1719307800-1719318600@elearning.bcas.org.uk
SUMMARY:Compressed Air Systems’ Testing and Examinations - virtual classroom 25th June 2024
DESCRIPTION:
URL:https://elearning.bcas.org.uk/event/compressed-air-systems-testing-and-examinations-virtual-classroom-25th-june-2024/
LOCATION:Online (Microsoft Teams)
CATEGORIES:CE Virtual
ATTACH;FMTTYPE=image/png:https://elearning.bcas.org.uk/wp-content/uploads/sites/2/2021/07/CASTEC_480x300.png
ORGANIZER;CN="BCAS":MAILTO:training@bcas.org.uk
END:VEVENT
BEGIN:VEVENT
DTSTART;TZID=Europe/London:20240206T093000
DTEND;TZID=Europe/London:20240206T123000
DTSTAMP:20260424T045253
CREATED:20231127T162759Z
LAST-MODIFIED:20231206T143910Z
UID:10000313-1707211800-1707222600@elearning.bcas.org.uk
SUMMARY:Compressed Air Systems’ Testing and Examinations - virtual classroom 6th February 2024
DESCRIPTION:
URL:https://elearning.bcas.org.uk/event/compressed-air-systems-testing-and-examinations-virtual-clssroom/
LOCATION:Online (Microsoft Teams)
CATEGORIES:CE Virtual
ATTACH;FMTTYPE=image/jpeg:https://elearning.bcas.org.uk/wp-content/uploads/sites/2/2021/04/CASTEC_480x300.jpg
ORGANIZER;CN="BCAS":MAILTO:training@bcas.org.uk
END:VEVENT
BEGIN:VEVENT
DTSTART;TZID=Europe/London:20230428T100000
DTEND;TZID=Europe/London:20230428T130000
DTSTAMP:20260424T045253
CREATED:20221025T150935Z
LAST-MODIFIED:20230421T093019Z
UID:10000291-1682676000-1682686800@elearning.bcas.org.uk
SUMMARY:Compressed Air Systems' Testing and Examinations Virtual classroom - 28th April 2023
DESCRIPTION:
URL:https://elearning.bcas.org.uk/event/compressed-air-systems-testing-and-examinations-virtual-classroom-27th-april-2023/
LOCATION:Online (Microsoft Teams)
CATEGORIES:CE Virtual
ATTACH;FMTTYPE=image/png:https://elearning.bcas.org.uk/wp-content/uploads/sites/2/2021/07/CASTEC_480x300.png
ORGANIZER;CN="BCAS":MAILTO:training@bcas.org.uk
END:VEVENT
BEGIN:VEVENT
DTSTART;TZID=Europe/London:20230125T100000
DTEND;TZID=Europe/London:20230125T130000
DTSTAMP:20260424T045253
CREATED:20221025T150756Z
LAST-MODIFIED:20230106T133749Z
UID:10000290-1674640800-1674651600@elearning.bcas.org.uk
SUMMARY:Compressed Air Systems’ Testing and Examinations virtual classroom - 25th January 2023
DESCRIPTION:
URL:https://elearning.bcas.org.uk/event/compressed-air-systems-testing-and-examinations-virtual-classroom-26th-january-2023/
LOCATION:Online (Microsoft Teams)
CATEGORIES:CE Virtual
ATTACH;FMTTYPE=image/png:https://elearning.bcas.org.uk/wp-content/uploads/sites/2/2021/07/CASTEC_480x300.png
ORGANIZER;CN="BCAS":MAILTO:training@bcas.org.uk
END:VEVENT
BEGIN:VEVENT
DTSTART;TZID=Europe/London:20221028T100000
DTEND;TZID=Europe/London:20221028T130000
DTSTAMP:20260424T045253
CREATED:20220916T143939Z
LAST-MODIFIED:20220922T084218Z
UID:10000247-1666951200-1666962000@elearning.bcas.org.uk
SUMMARY:DD Group Compressed Air Systems’ Testing and Examinations 28th October 2022- Virtual classroom
DESCRIPTION:
URL:https://elearning.bcas.org.uk/event/dd-group-virtual-classroom/
LOCATION:Online (Microsoft Teams)
CATEGORIES:CE Virtual
ORGANIZER;CN="BCAS":MAILTO:training@bcas.org.uk
END:VEVENT
BEGIN:VEVENT
DTSTART;TZID=Europe/London:20221027T100000
DTEND;TZID=Europe/London:20221027T130000
DTSTAMP:20260424T045253
CREATED:20220113T150300Z
LAST-MODIFIED:20220121T135430Z
UID:10000231-1666864800-1666875600@elearning.bcas.org.uk
SUMMARY:Compressed Air Systems' Testing and Examinations Virtual classroom - 27th October 2022
DESCRIPTION:
URL:https://elearning.bcas.org.uk/event/compressed-air-systems-testing-and-examinations-virtual-classroom-27th-october-2022/
CATEGORIES:CE Virtual
ATTACH;FMTTYPE=image/png:https://elearning.bcas.org.uk/wp-content/uploads/sites/2/2021/07/CASTEC_480x300.png
END:VEVENT
BEGIN:VEVENT
DTSTART;TZID=Europe/London:20220630T100000
DTEND;TZID=Europe/London:20220630T130000
DTSTAMP:20260424T045253
CREATED:20220113T145952Z
LAST-MODIFIED:20220121T141144Z
UID:10000230-1656583200-1656594000@elearning.bcas.org.uk
SUMMARY:Compressed Air Systems' Testing and Examinations Virtual classroom - 30th June 2022
DESCRIPTION:[vc_row type=”in_container” full_screen_row_position=”middle” column_margin=”default” column_direction=”default” column_direction_tablet=”default” column_direction_phone=”default” scene_position=”center” text_color=”dark” text_align=”left” row_border_radius=”none” row_border_radius_applies=”bg” overlay_strength=”0.3″ gradient_direction=”left_to_right” shape_divider_position=”bottom” bg_image_animation=”none”][vc_column column_padding=”no-extra-padding” column_padding_tablet=”inherit” column_padding_phone=”inherit” column_padding_position=”all” column_element_spacing=”default” background_color_opacity=”1″ background_hover_color_opacity=”1″ column_shadow=”none” column_border_radius=”none” column_link_target=”_self” gradient_direction=”left_to_right” overlay_strength=”0.3″ width=”1/1″ tablet_width_inherit=”default” tablet_text_alignment=”default” phone_text_alignment=”default” bg_image_animation=”none” border_type=”simple” column_border_width=”none” column_border_style=”solid”][vc_column_text]Click on the ‘Going’ RSVP button for this virtual classroom session in order to confirm your space for the selected date. You only need to RSVP for one date to complete your virtual classroom step for this course. \nWhat equipment will I need for the virtual class room:-\n\nAccess to the internet\nAbility to accept the Microsoft Teams meeting invitation\nA web cam\n\nFull terms and conditions can be reviewed here \nPlease return to your online course and mark the ‘Please Book Your Virtual Classroom Session (CAS T&E)’ as complete once you have selected your virtual classroom session date.\n[/vc_column_text][/vc_column][/vc_row]
URL:https://elearning.bcas.org.uk/event/compressed-air-systems-testing-and-examinations-virtual-classroom-30th-june-2022/
LOCATION:Online (Microsoft Teams)
CATEGORIES:CE Virtual
ATTACH;FMTTYPE=image/png:https://elearning.bcas.org.uk/wp-content/uploads/sites/2/2021/07/CASTEC_480x300.png
ORGANIZER;CN="BCAS":MAILTO:training@bcas.org.uk
END:VEVENT
BEGIN:VEVENT
DTSTART;TZID=Europe/London:20220428T093000
DTEND;TZID=Europe/London:20220428T113000
DTSTAMP:20260424T045253
CREATED:20211104T164448Z
LAST-MODIFIED:20211104T164448Z
UID:10000220-1651138200-1651145400@elearning.bcas.org.uk
SUMMARY:Compressed Air Systems' Testing and Examinations Virtual classroom - 28th April 2022
DESCRIPTION:
URL:https://elearning.bcas.org.uk/event/compressed-air-systems-testing-and-examinations-virtual-classroom-28th-april-2022/
LOCATION:Online (Microsoft Teams)
CATEGORIES:CE Virtual
ATTACH;FMTTYPE=image/png:https://elearning.bcas.org.uk/wp-content/uploads/sites/2/2021/07/CASTEC_480x300.png
ORGANIZER;CN="BCAS":MAILTO:training@bcas.org.uk
END:VEVENT
BEGIN:VEVENT
DTSTART;TZID=Europe/London:20220119T093000
DTEND;TZID=Europe/London:20220119T113000
DTSTAMP:20260424T045253
CREATED:20211104T164317Z
LAST-MODIFIED:20220113T145538Z
UID:10000219-1642584600-1642591800@elearning.bcas.org.uk
SUMMARY:Compressed Air Systems' Testing and Examinations Virtual classroom - 19th January 2022
DESCRIPTION:[vc_row type=”in_container” full_screen_row_position=”middle” column_margin=”default” column_direction=”default” column_direction_tablet=”default” column_direction_phone=”default” scene_position=”center” text_color=”dark” text_align=”left” row_border_radius=”none” row_border_radius_applies=”bg” overlay_strength=”0.3″ gradient_direction=”left_to_right” shape_divider_position=”bottom” bg_image_animation=”none”][vc_column column_padding=”no-extra-padding” column_padding_tablet=”inherit” column_padding_phone=”inherit” column_padding_position=”all” column_element_spacing=”default” background_color_opacity=”1″ background_hover_color_opacity=”1″ column_shadow=”none” column_border_radius=”none” column_link_target=”_self” gradient_direction=”left_to_right” overlay_strength=”0.3″ width=”1/1″ tablet_width_inherit=”default” tablet_text_alignment=”default” phone_text_alignment=”default” bg_image_animation=”none” border_type=”simple” column_border_width=”none” column_border_style=”solid”][vc_column_text]Click on the ‘Going’ RSVP button for this virtual classroom session in order to confirm your space for the selected date. You only need to RSVP for one date to complete your virtual classroom step for this course. \nWhat equipment will I need for the virtual class room:-\n\nAccess to the internet\nAbility to accept the Microsoft Teams meeting invitation\nA web cam\n\nFull terms and conditions can be reviewed here \nPlease return to your online course and mark the ‘Please Book Your Virtual Classroom Session (CAS T&E)’ as complete once you have selected your virtual classroom session date.\n[/vc_column_text][/vc_column][/vc_row]
URL:https://elearning.bcas.org.uk/event/compressed-air-systems-testing-and-examinations-virtual-classroom-28th-oct-2/
LOCATION:Online (Microsoft Teams)
CATEGORIES:CE Virtual
ATTACH;FMTTYPE=image/png:https://elearning.bcas.org.uk/wp-content/uploads/sites/2/2021/07/CASTEC_480x300.png
ORGANIZER;CN="BCAS":MAILTO:training@bcas.org.uk
END:VEVENT
BEGIN:VEVENT
DTSTART;TZID=Europe/London:20211028T100000
DTEND;TZID=Europe/London:20211028T130000
DTSTAMP:20260424T045253
CREATED:20210715T222351Z
LAST-MODIFIED:20220113T145618Z
UID:10000201-1635415200-1635426000@elearning.bcas.org.uk
SUMMARY:Compressed Air Systems' Testing and Examinations Virtual classroom - 28th Oct 2021
DESCRIPTION:[vc_row type=”in_container” full_screen_row_position=”middle” column_margin=”default” column_direction=”default” column_direction_tablet=”default” column_direction_phone=”default” scene_position=”center” text_color=”dark” text_align=”left” row_border_radius=”none” row_border_radius_applies=”bg” overlay_strength=”0.3″ gradient_direction=”left_to_right” shape_divider_position=”bottom” bg_image_animation=”none”][vc_column column_padding=”no-extra-padding” column_padding_tablet=”inherit” column_padding_phone=”inherit” column_padding_position=”all” column_element_spacing=”default” background_color_opacity=”1″ background_hover_color_opacity=”1″ column_shadow=”none” column_border_radius=”none” column_link_target=”_self” gradient_direction=”left_to_right” overlay_strength=”0.3″ width=”1/1″ tablet_width_inherit=”default” tablet_text_alignment=”default” phone_text_alignment=”default” bg_image_animation=”none” border_type=”simple” column_border_width=”none” column_border_style=”solid”][vc_column_text]Click on the ‘Going’ RSVP button for this virtual classroom session in order to confirm your space for the selected date. You only need to RSVP for one date to complete your virtual classroom step for this course. \nWhat equipment will I need for the virtual class room:-\n\nAccess to the internet\nAbility to accept the Microsoft Teams meeting invitation\nA web cam\n\nFull terms and conditions can be reviewed here \nPlease return to your online course and mark the ‘Please Book Your Virtual Classroom Session (CAS T&E)’ as complete once you have selected your virtual classroom session date.\n[/vc_column_text][/vc_column][/vc_row]
URL:https://elearning.bcas.org.uk/event/compressed-air-systems-testing-and-examinations-virtual-classroom-28th-oct/
LOCATION:Online (Microsoft Teams)
CATEGORIES:CE Virtual
ATTACH;FMTTYPE=image/jpeg:https://elearning.bcas.org.uk/wp-content/uploads/sites/2/2021/07/CompExam_EventFeatured.jpg
ORGANIZER;CN="BCAS":MAILTO:training@bcas.org.uk
END:VEVENT
BEGIN:VEVENT
DTSTART;TZID=Europe/London:20210826T100000
DTEND;TZID=Europe/London:20210826T130000
DTSTAMP:20260424T045253
CREATED:20210715T221923Z
LAST-MODIFIED:20220113T145640Z
UID:10000200-1629972000-1629982800@elearning.bcas.org.uk
SUMMARY:Compressed Air Systems' Testing and Examinations Virtual classroom - 26th Aug 2021
DESCRIPTION:[vc_row type=”in_container” full_screen_row_position=”middle” column_margin=”default” column_direction=”default” column_direction_tablet=”default” column_direction_phone=”default” scene_position=”center” text_color=”dark” text_align=”left” row_border_radius=”none” row_border_radius_applies=”bg” overlay_strength=”0.3″ gradient_direction=”left_to_right” shape_divider_position=”bottom” bg_image_animation=”none”][vc_column column_padding=”no-extra-padding” column_padding_tablet=”inherit” column_padding_phone=”inherit” column_padding_position=”all” column_element_spacing=”default” background_color_opacity=”1″ background_hover_color_opacity=”1″ column_shadow=”none” column_border_radius=”none” column_link_target=”_self” gradient_direction=”left_to_right” overlay_strength=”0.3″ width=”1/1″ tablet_width_inherit=”default” tablet_text_alignment=”default” phone_text_alignment=”default” bg_image_animation=”none” border_type=”simple” column_border_width=”none” column_border_style=”solid”][vc_column_text]Click on the ‘Going’ RSVP button for this virtual classroom session in order to confirm your space for the selected date. You only need to RSVP for one date to complete your virtual classroom step for this course. \nWhat equipment will I need for the virtual class room:-\n\nAccess to the internet\nAbility to accept the Microsoft Teams meeting invitation\nA web cam\n\nFull terms and conditions can be reviewed here \nPlease return to your online course and mark the ‘Please Book Your Virtual Classroom Session (CAS T&E)’ as complete once you have selected your virtual classroom session date.\n[/vc_column_text][/vc_column][/vc_row]
URL:https://elearning.bcas.org.uk/event/compressed-air-systems-testing-and-examinations-virtual-classroom-26th-aug/
LOCATION:Online (Microsoft Teams)
CATEGORIES:CE Virtual
ATTACH;FMTTYPE=image/jpeg:https://elearning.bcas.org.uk/wp-content/uploads/sites/2/2021/07/CompExam_EventFeatured.jpg
ORGANIZER;CN="BCAS":MAILTO:training@bcas.org.uk
END:VEVENT
END:VCALENDAR