BEGIN:VCALENDAR
VERSION:2.0
PRODID:-//BCAS Online Learning - ECPv6.15.20//NONSGML v1.0//EN
CALSCALE:GREGORIAN
METHOD:PUBLISH
X-WR-CALNAME:BCAS Online Learning
X-ORIGINAL-URL:https://elearning.bcas.org.uk
X-WR-CALDESC:Events for BCAS Online Learning
REFRESH-INTERVAL;VALUE=DURATION:PT1H
X-Robots-Tag:noindex
X-PUBLISHED-TTL:PT1H
BEGIN:VTIMEZONE
TZID:Europe/London
BEGIN:DAYLIGHT
TZOFFSETFROM:+0000
TZOFFSETTO:+0100
TZNAME:BST
DTSTART:20200329T010000
END:DAYLIGHT
BEGIN:STANDARD
TZOFFSETFROM:+0100
TZOFFSETTO:+0000
TZNAME:GMT
DTSTART:20201025T010000
END:STANDARD
BEGIN:DAYLIGHT
TZOFFSETFROM:+0000
TZOFFSETTO:+0100
TZNAME:BST
DTSTART:20210328T010000
END:DAYLIGHT
BEGIN:STANDARD
TZOFFSETFROM:+0100
TZOFFSETTO:+0000
TZNAME:GMT
DTSTART:20211031T010000
END:STANDARD
BEGIN:DAYLIGHT
TZOFFSETFROM:+0000
TZOFFSETTO:+0100
TZNAME:BST
DTSTART:20220327T010000
END:DAYLIGHT
BEGIN:STANDARD
TZOFFSETFROM:+0100
TZOFFSETTO:+0000
TZNAME:GMT
DTSTART:20221030T010000
END:STANDARD
BEGIN:DAYLIGHT
TZOFFSETFROM:+0000
TZOFFSETTO:+0100
TZNAME:BST
DTSTART:20230326T010000
END:DAYLIGHT
BEGIN:STANDARD
TZOFFSETFROM:+0100
TZOFFSETTO:+0000
TZNAME:GMT
DTSTART:20231029T010000
END:STANDARD
END:VTIMEZONE
BEGIN:VEVENT
DTSTART;TZID=Europe/London:20220728T093000
DTEND;TZID=Europe/London:20220728T170000
DTSTAMP:20260423T233733
CREATED:20220113T151345Z
LAST-MODIFIED:20220121T135715Z
UID:10000232-1659000600-1659027600@elearning.bcas.org.uk
SUMMARY:Compressed Air Systems’ Testing and Examinations - Physical Classroom Event - 28th July 2022
DESCRIPTION:
URL:https://elearning.bcas.org.uk/event/compressed-air-systems-testing-and-examinations-physical-classroom-event-28th-july-2022/
LOCATION:BCAS Training Centre\, IMechE Argyll Ruane\, 4 Europa View\, Tinsley\,\, Sheffield\, South Yorkshire\, S9 1XH\, United Kingdom
CATEGORIES:Competent Examiner
ATTACH;FMTTYPE=image/png:https://elearning.bcas.org.uk/wp-content/uploads/sites/2/2021/07/CASTEC_480x300.png
ORGANIZER;CN="BCAS":MAILTO:training@bcas.org.uk
END:VEVENT
BEGIN:VEVENT
DTSTART;TZID=Europe/London:20220525T093000
DTEND;TZID=Europe/London:20220525T170000
DTSTAMP:20260423T233733
CREATED:20211104T163534Z
LAST-MODIFIED:20220323T120835Z
UID:10000218-1653471000-1653498000@elearning.bcas.org.uk
SUMMARY:Compressed Air Systems’ Testing and Examinations - Physical Classroom Event - 25th May 2022
DESCRIPTION:
URL:https://elearning.bcas.org.uk/event/compressed-air-systems-testing-and-examinations-physical-classroom-event-28th-april-2022/
LOCATION:BCAS Training Centre\, IMechE Argyll Ruane\, 4 Europa View\, Tinsley\,\, Sheffield\, South Yorkshire\, S9 1XH\, United Kingdom
CATEGORIES:Competent Examiner
ATTACH;FMTTYPE=image/png:https://elearning.bcas.org.uk/wp-content/uploads/sites/2/2021/07/CASTEC_480x300.png
ORGANIZER;CN="BCAS":MAILTO:training@bcas.org.uk
END:VEVENT
BEGIN:VEVENT
DTSTART;TZID=Europe/London:20220119T093000
DTEND;TZID=Europe/London:20220119T170000
DTSTAMP:20260423T233733
CREATED:20211104T163246Z
LAST-MODIFIED:20211104T163246Z
UID:10000217-1642584600-1642611600@elearning.bcas.org.uk
SUMMARY:Compressed Air Systems’ Testing and Examinations - Physical Classroom Event - 3rd February 2022
DESCRIPTION:
URL:https://elearning.bcas.org.uk/event/compressed-air-systems-testing-and-examinations-physical-classroom-event-3rd-february-2022/
LOCATION:South Yorkshire
CATEGORIES:Competent Examiner
ATTACH;FMTTYPE=image/png:https://elearning.bcas.org.uk/wp-content/uploads/sites/2/2021/07/CASTEC_480x300.png
END:VEVENT
BEGIN:VEVENT
DTSTART;VALUE=DATE:20211202
DTEND;VALUE=DATE:20211203
DTSTAMP:20260423T233733
CREATED:20211118T092718Z
LAST-MODIFIED:20220113T145451Z
UID:10000221-1638403200-1638489599@elearning.bcas.org.uk
SUMMARY:Compressed Air Systems’ Testing and Examinations - physical classroom 12th February 2021
DESCRIPTION:
URL:https://elearning.bcas.org.uk/event/compressed-air-systems-testing-and-examinations-physical-classroom/
LOCATION:BCAS Training Centre\, IMechE Argyll Ruane\, 4 Europa View\, Tinsley\,\, Sheffield\, South Yorkshire\, S9 1XH\, United Kingdom
CATEGORIES:Competent Examiner
ORGANIZER;CN="BCAS":MAILTO:training@bcas.org.uk
END:VEVENT
BEGIN:VEVENT
DTSTART;TZID=Europe/London:20210909T100000
DTEND;TZID=Europe/London:20210909T170000
DTSTAMP:20260423T233733
CREATED:20210505T203735Z
LAST-MODIFIED:20210817T095209Z
UID:10000193-1631181600-1631206800@elearning.bcas.org.uk
SUMMARY:Compressed Air Systems’ Testing and Examinations - Physical Classroom Event - September 2021
DESCRIPTION:[vc_row type=”in_container” full_screen_row_position=”middle” column_margin=”default” column_direction=”default” column_direction_tablet=”default” column_direction_phone=”default” scene_position=”center” text_color=”dark” text_align=”left” row_border_radius=”none” row_border_radius_applies=”bg” overlay_strength=”0.3″ gradient_direction=”left_to_right” shape_divider_position=”bottom” bg_image_animation=”none”][vc_column column_padding=”no-extra-padding” column_padding_tablet=”inherit” column_padding_phone=”inherit” column_padding_position=”all” column_element_spacing=”default” background_color_opacity=”1″ background_hover_color_opacity=”1″ column_shadow=”none” column_border_radius=”none” column_link_target=”_self” gradient_direction=”left_to_right” overlay_strength=”0.3″ width=”1/1″ tablet_width_inherit=”default” tablet_text_alignment=”default” phone_text_alignment=”default” bg_image_animation=”none” border_type=”simple” column_border_width=”none” column_border_style=”solid”][vc_column_text]Your Virtual Classroom Session Will Take Place One Month Before This Date. You Will Book A Date And Time For This During Your Online Course. \nPlease log in to see available Member\, Associate Member and Non Member pricing for this event. \nIf you have yet to create your account\, you can do so by clicking this link.[/vc_column_text][/vc_column][/vc_row]
URL:https://elearning.bcas.org.uk/event/competent-examiner-september-2021/
LOCATION:BCAS Training Centre\, IMechE Argyll Ruane\, 4 Europa View\, Tinsley\,\, Sheffield\, South Yorkshire\, S9 1XH\, United Kingdom
CATEGORIES:Competent Examiner
ATTACH;FMTTYPE=image/jpeg:https://elearning.bcas.org.uk/wp-content/uploads/sites/2/2021/07/CompExam_EventFeatured.jpg
ORGANIZER;CN="BCAS":MAILTO:training@bcas.org.uk
END:VEVENT
END:VCALENDAR