BEGIN:VCALENDAR
VERSION:2.0
PRODID:-//BCAS Online Learning - ECPv6.15.20//NONSGML v1.0//EN
CALSCALE:GREGORIAN
METHOD:PUBLISH
X-WR-CALNAME:BCAS Online Learning
X-ORIGINAL-URL:https://elearning.bcas.org.uk
X-WR-CALDESC:Events for BCAS Online Learning
REFRESH-INTERVAL;VALUE=DURATION:PT1H
X-Robots-Tag:noindex
X-PUBLISHED-TTL:PT1H
BEGIN:VTIMEZONE
TZID:Europe/London
BEGIN:DAYLIGHT
TZOFFSETFROM:+0000
TZOFFSETTO:+0100
TZNAME:BST
DTSTART:20240331T010000
END:DAYLIGHT
BEGIN:STANDARD
TZOFFSETFROM:+0100
TZOFFSETTO:+0000
TZNAME:GMT
DTSTART:20241027T010000
END:STANDARD
BEGIN:DAYLIGHT
TZOFFSETFROM:+0000
TZOFFSETTO:+0100
TZNAME:BST
DTSTART:20250330T010000
END:DAYLIGHT
BEGIN:STANDARD
TZOFFSETFROM:+0100
TZOFFSETTO:+0000
TZNAME:GMT
DTSTART:20251026T010000
END:STANDARD
BEGIN:DAYLIGHT
TZOFFSETFROM:+0000
TZOFFSETTO:+0100
TZNAME:BST
DTSTART:20260329T010000
END:DAYLIGHT
BEGIN:STANDARD
TZOFFSETFROM:+0100
TZOFFSETTO:+0000
TZNAME:GMT
DTSTART:20261025T010000
END:STANDARD
END:VTIMEZONE
BEGIN:VEVENT
DTSTART;TZID=Europe/London:20250408T093000
DTEND;TZID=Europe/London:20250408T123000
DTSTAMP:20260425T130940
CREATED:20241113T143456Z
LAST-MODIFIED:20241113T143456Z
UID:10000345-1744104600-1744115400@elearning.bcas.org.uk
SUMMARY:Diploma in Compressed Air Management (DipCAM) EXAM – 8th April 2025
DESCRIPTION:
URL:https://elearning.bcas.org.uk/event/diploma-in-compressed-air-management-dipcam-exam-8th-april-2025/
LOCATION:Online (Microsoft Teams)
CATEGORIES:DipCAM Exam
ATTACH;FMTTYPE=image/jpeg:https://elearning.bcas.org.uk/wp-content/uploads/sites/2/2021/07/DipCAM_EventFeatured.jpg
ORGANIZER;CN="BCAS":MAILTO:training@bcas.org.uk
END:VEVENT
BEGIN:VEVENT
DTSTART;TZID=Europe/London:20250506T093000
DTEND;TZID=Europe/London:20250506T123000
DTSTAMP:20260425T130940
CREATED:20241113T143739Z
LAST-MODIFIED:20241205T142929Z
UID:10000346-1746523800-1746534600@elearning.bcas.org.uk
SUMMARY:Diploma in Compressed Air Management (DipCAM) EXAM – 6th May 2025
DESCRIPTION:
URL:https://elearning.bcas.org.uk/event/diploma-in-compressed-air-management-dipcam-exam-6th-may-2025/
LOCATION:Online (Microsoft Teams)
CATEGORIES:DipCAM Exam
ATTACH;FMTTYPE=image/jpeg:https://elearning.bcas.org.uk/wp-content/uploads/sites/2/2021/07/DipCAM_EventFeatured.jpg
ORGANIZER;CN="BCAS":MAILTO:training@bcas.org.uk
END:VEVENT
BEGIN:VEVENT
DTSTART;TZID=Europe/London:20250603T093000
DTEND;TZID=Europe/London:20250603T123000
DTSTAMP:20260425T130940
CREATED:20241113T143925Z
LAST-MODIFIED:20241114T101508Z
UID:10000347-1748943000-1748953800@elearning.bcas.org.uk
SUMMARY:Diploma in Compressed Air Management (DipCAM) EXAM – 3rd June 2025
DESCRIPTION:
URL:https://elearning.bcas.org.uk/event/diploma-in-compressed-air-management-dipcam-exam-3rd-june-2025/
LOCATION:Online (Microsoft Teams)
CATEGORIES:DipCAM Exam
ATTACH;FMTTYPE=image/jpeg:https://elearning.bcas.org.uk/wp-content/uploads/sites/2/2021/07/DipCAM_EventFeatured.jpg
ORGANIZER;CN="BCAS":MAILTO:training@bcas.org.uk
END:VEVENT
BEGIN:VEVENT
DTSTART;TZID=Europe/London:20250902T093000
DTEND;TZID=Europe/London:20250902T123000
DTSTAMP:20260425T130940
CREATED:20241113T144058Z
LAST-MODIFIED:20241114T101455Z
UID:10000348-1756805400-1756816200@elearning.bcas.org.uk
SUMMARY:Diploma in Compressed Air Management (DipCAM) EXAM – 2nd September 2025
DESCRIPTION:
URL:https://elearning.bcas.org.uk/event/diploma-in-compressed-air-management-dipcam-exam-2nd-september-2025/
LOCATION:Online (Microsoft Teams)
CATEGORIES:DipCAM Exam
ATTACH;FMTTYPE=image/jpeg:https://elearning.bcas.org.uk/wp-content/uploads/sites/2/2021/07/DipCAM_EventFeatured.jpg
ORGANIZER;CN="BCAS":MAILTO:training@bcas.org.uk
END:VEVENT
BEGIN:VEVENT
DTSTART;TZID=Europe/London:20251104T093000
DTEND;TZID=Europe/London:20251104T123000
DTSTAMP:20260425T130940
CREATED:20241113T144213Z
LAST-MODIFIED:20241114T101445Z
UID:10000349-1762248600-1762259400@elearning.bcas.org.uk
SUMMARY:Diploma in Compressed Air Management (DipCAM) EXAM – 4th November 2025
DESCRIPTION:
URL:https://elearning.bcas.org.uk/event/diploma-in-compressed-air-management-dipcam-exam-7th-october-2025/
LOCATION:Online (Microsoft Teams)
CATEGORIES:DipCAM Exam
ATTACH;FMTTYPE=image/jpeg:https://elearning.bcas.org.uk/wp-content/uploads/sites/2/2021/07/DipCAM_EventFeatured.jpg
ORGANIZER;CN="BCAS":MAILTO:training@bcas.org.uk
END:VEVENT
BEGIN:VEVENT
DTSTART;TZID=Europe/London:20251210T093000
DTEND;TZID=Europe/London:20251210T123000
DTSTAMP:20260425T130940
CREATED:20241113T144511Z
LAST-MODIFIED:20251118T150350Z
UID:10000350-1765359000-1765369800@elearning.bcas.org.uk
SUMMARY:Diploma in Compressed Air Management (DipCAM) EXAM – 10th December 2025
DESCRIPTION:
URL:https://elearning.bcas.org.uk/event/diploma-in-compressed-air-management-dipcam-exam-9th-december-2025/
LOCATION:Online (Microsoft Teams)
CATEGORIES:DipCAM Exam
ATTACH;FMTTYPE=image/jpeg:https://elearning.bcas.org.uk/wp-content/uploads/sites/2/2021/11/DipCAM-OCo-1.jpg
ORGANIZER;CN="BCAS":MAILTO:training@bcas.org.uk
END:VEVENT
END:VCALENDAR