BEGIN:VCALENDAR
VERSION:2.0
PRODID:-//BCAS Online Learning - ECPv6.15.20//NONSGML v1.0//EN
CALSCALE:GREGORIAN
METHOD:PUBLISH
X-WR-CALNAME:BCAS Online Learning
X-ORIGINAL-URL:https://elearning.bcas.org.uk
X-WR-CALDESC:Events for BCAS Online Learning
REFRESH-INTERVAL;VALUE=DURATION:PT1H
X-Robots-Tag:noindex
X-PUBLISHED-TTL:PT1H
BEGIN:VTIMEZONE
TZID:Europe/London
BEGIN:DAYLIGHT
TZOFFSETFROM:+0000
TZOFFSETTO:+0100
TZNAME:BST
DTSTART:20240331T010000
END:DAYLIGHT
BEGIN:STANDARD
TZOFFSETFROM:+0100
TZOFFSETTO:+0000
TZNAME:GMT
DTSTART:20241027T010000
END:STANDARD
BEGIN:DAYLIGHT
TZOFFSETFROM:+0000
TZOFFSETTO:+0100
TZNAME:BST
DTSTART:20250330T010000
END:DAYLIGHT
BEGIN:STANDARD
TZOFFSETFROM:+0100
TZOFFSETTO:+0000
TZNAME:GMT
DTSTART:20251026T010000
END:STANDARD
BEGIN:DAYLIGHT
TZOFFSETFROM:+0000
TZOFFSETTO:+0100
TZNAME:BST
DTSTART:20260329T010000
END:DAYLIGHT
BEGIN:STANDARD
TZOFFSETFROM:+0100
TZOFFSETTO:+0000
TZNAME:GMT
DTSTART:20261025T010000
END:STANDARD
END:VTIMEZONE
BEGIN:VEVENT
DTSTART;TZID=Europe/London:20251022T093000
DTEND;TZID=Europe/London:20251022T170000
DTSTAMP:20260423T221621
CREATED:20250922T120731Z
LAST-MODIFIED:20250922T120731Z
UID:10000359-1761125400-1761152400@elearning.bcas.org.uk
SUMMARY:Compressed Air Systems' Testing and Examinations - classroom day October  22nd 2025
DESCRIPTION:
URL:https://elearning.bcas.org.uk/event/compressed-air-systems-testing-and-examinations-classroom-day-october-22nd-2025/
LOCATION:Make Venues Woodland Grange Old Milverton Lane Leamington Spa Warwickshire CV32 6RN\, Make Venues Woodland Grange Old Milverton Lane\, Leamington Spa\, Warwickshire\, CV32 6RN\, United Kingdom
ORGANIZER;CN="BCAS":MAILTO:training@bcas.org.uk
END:VEVENT
BEGIN:VEVENT
DTSTART;VALUE=DATE:20250702
DTEND;VALUE=DATE:20250703
DTSTAMP:20260423T221621
CREATED:20250605T131242Z
LAST-MODIFIED:20250605T134352Z
UID:10000357-1751414400-1751500799@elearning.bcas.org.uk
SUMMARY:Compressed Air Systems' Testing and Examinations - classroom day july 2nd 2025
DESCRIPTION:
URL:https://elearning.bcas.org.uk/event/compressed-air-systems-testing-and-examinations-classroom-day/
LOCATION:Make Venues Woodland Grange Old Milverton Lane Leamington Spa Warwickshire CV32 6RN\, Make Venues Woodland Grange Old Milverton Lane\, Leamington Spa\, Warwickshire\, CV32 6RN\, United Kingdom
END:VEVENT
END:VCALENDAR